BEGIN:VCALENDAR
VERSION:2.0
PRODID:-//Experience Fallas Valencia - A festival of fire and roots! - ECPv6.15.20//NONSGML v1.0//EN
CALSCALE:GREGORIAN
METHOD:PUBLISH
X-WR-CALNAME:Experience Fallas Valencia - A festival of fire and roots!
X-ORIGINAL-URL:https://experiencefallasvalencia.com
X-WR-CALDESC:Events for Experience Fallas Valencia - A festival of fire and roots!
REFRESH-INTERVAL;VALUE=DURATION:PT1H
X-Robots-Tag:noindex
X-PUBLISHED-TTL:PT1H
BEGIN:VTIMEZONE
TZID:Europe/Madrid
BEGIN:DAYLIGHT
TZOFFSETFROM:+0100
TZOFFSETTO:+0200
TZNAME:CEST
DTSTART:20230326T010000
END:DAYLIGHT
BEGIN:STANDARD
TZOFFSETFROM:+0200
TZOFFSETTO:+0100
TZNAME:CET
DTSTART:20231029T010000
END:STANDARD
BEGIN:DAYLIGHT
TZOFFSETFROM:+0100
TZOFFSETTO:+0200
TZNAME:CEST
DTSTART:20240331T010000
END:DAYLIGHT
BEGIN:STANDARD
TZOFFSETFROM:+0200
TZOFFSETTO:+0100
TZNAME:CET
DTSTART:20241027T010000
END:STANDARD
BEGIN:DAYLIGHT
TZOFFSETFROM:+0100
TZOFFSETTO:+0200
TZNAME:CEST
DTSTART:20250330T010000
END:DAYLIGHT
BEGIN:STANDARD
TZOFFSETFROM:+0200
TZOFFSETTO:+0100
TZNAME:CET
DTSTART:20251026T010000
END:STANDARD
END:VTIMEZONE
BEGIN:VEVENT
DTSTART;TZID=Europe/Madrid:20240225T071500
DTEND;TZID=Europe/Madrid:20240225T080000
DTSTAMP:20260422T011731
CREATED:20240207T144302Z
LAST-MODIFIED:20240223T092255Z
UID:478-1708845300-1708848000@experiencefallasvalencia.com
SUMMARY:POSTPONED - Children's 'Despertà'
DESCRIPTION:Infant march with firecrackers in the early morning. Hence the name ‘despertà’\, which means wake-up call in valencian. It starts at the Church of Sant Joan del Hospital and ends in the Town Hall Square with a grand finale ‘earthquake’ —a large firecracker display—.
URL:https://experiencefallasvalencia.com/event/children-desperta-fallas-2024/
LOCATION:Iglesia de Sant Joan del Hospital\, C- del Trinquet de Cavallers 5\, Valencia\, Valencia\, 46003\, Spain
CATEGORIES:Fallas parades and events
ATTACH;FMTTYPE=image/jpeg:https://experiencefallasvalencia.com/wp-content/uploads/2024/02/Site-image-720p.jpg
END:VEVENT
BEGIN:VEVENT
DTSTART;TZID=Europe/Madrid:20240208T080000
DTEND;TZID=Europe/Madrid:20240208T170000
DTSTAMP:20260422T011731
CREATED:20240208T115129Z
LAST-MODIFIED:20240208T193145Z
UID:509-1707379200-1707411600@experiencefallasvalencia.com
SUMMARY:Entrance of traditional music bands to the Town Hall Square
DESCRIPTION:Music bands from the city\, other municipalities and those associated with the Fallas parade through the Plaça de l’Ajuntament (Town Hall Square).
URL:https://experiencefallasvalencia.com/event/traditional-music-bands-town-hall-square-fallas-2024/
LOCATION:Plaça de l’Ajuntament\, Pl. de l'Ajuntament\, Valencia\, Valencia\, 46002\, Spain
CATEGORIES:Fallas parades and events
ATTACH;FMTTYPE=image/jpeg:https://experiencefallasvalencia.com/wp-content/uploads/2024/02/Site-image-720p.jpg
END:VEVENT
BEGIN:VEVENT
DTSTART;TZID=Europe/Madrid:20240202T100000
DTEND;TZID=Europe/Madrid:20240315T210000
DTSTAMP:20260422T011731
CREATED:20240208T102948Z
LAST-MODIFIED:20240208T193114Z
UID:500-1706868000-1710536400@experiencefallasvalencia.com
SUMMARY:Exhibition of the 'ninot'
DESCRIPTION:The literal translation is ‘Doll Exhibition’. This showcase features a figure representing each Falla\, selected by every Falla commission. Attendees can vote for their favorite\, both among the large and children’s Fallas. Voting for the big ones is open until the 14th\, and for the children’s until the 15th. The two winning ‘ninots’ will be spared from the flames at the festival’s conclusion and will join the Fallero Museum. \nAdult tickets 3€\, children and retirees 1\,5€. \nMonday to Thursday from 10 a.m. to 8 p.m. \nFriday to Sunday from 10 a.m. to 9 p.m.
URL:https://experiencefallasvalencia.com/event/exhibition-of-the-ninot-fallas-2024/
LOCATION:Museu de les Ciències\, Ciudad de las Artes y de las Ciencias\, Av. del Professor López Piñero 7\, Valencia\, Valencia\, 46013\, Spain
CATEGORIES:Fallas contemplation
ATTACH;FMTTYPE=image/jpeg:https://experiencefallasvalencia.com/wp-content/uploads/2024/02/01-Exposicio-del-Ninot.jpg
END:VEVENT
END:VCALENDAR