BEGIN:VCALENDAR
VERSION:2.0
PRODID:-//Experience Fallas Valencia - A festival of fire and roots! - ECPv6.15.20//NONSGML v1.0//EN
CALSCALE:GREGORIAN
METHOD:PUBLISH
X-ORIGINAL-URL:https://experiencefallasvalencia.com
X-WR-CALDESC:Events for Experience Fallas Valencia - A festival of fire and roots!
REFRESH-INTERVAL;VALUE=DURATION:PT1H
X-Robots-Tag:noindex
X-PUBLISHED-TTL:PT1H
BEGIN:VTIMEZONE
TZID:Europe/Madrid
BEGIN:DAYLIGHT
TZOFFSETFROM:+0100
TZOFFSETTO:+0200
TZNAME:CEST
DTSTART:20240331T010000
END:DAYLIGHT
BEGIN:STANDARD
TZOFFSETFROM:+0200
TZOFFSETTO:+0100
TZNAME:CET
DTSTART:20241027T010000
END:STANDARD
BEGIN:DAYLIGHT
TZOFFSETFROM:+0100
TZOFFSETTO:+0200
TZNAME:CEST
DTSTART:20250330T010000
END:DAYLIGHT
BEGIN:STANDARD
TZOFFSETFROM:+0200
TZOFFSETTO:+0100
TZNAME:CET
DTSTART:20251026T010000
END:STANDARD
BEGIN:DAYLIGHT
TZOFFSETFROM:+0100
TZOFFSETTO:+0200
TZNAME:CEST
DTSTART:20260329T010000
END:DAYLIGHT
BEGIN:STANDARD
TZOFFSETFROM:+0200
TZOFFSETTO:+0100
TZNAME:CET
DTSTART:20261025T010000
END:STANDARD
END:VTIMEZONE
BEGIN:VEVENT
DTSTART;TZID=Europe/Madrid:20250319T190000
DTEND;TZID=Europe/Madrid:20250319T203000
DTSTAMP:20260422T043431
CREATED:20240820T090955Z
LAST-MODIFIED:20240820T090955Z
UID:1355-1742410800-1742416200@experiencefallasvalencia.com
SUMMARY:'Cavalcada del Foc' or Fire Parade 2025
DESCRIPTION:On the last day of the Fallas\, before the monuments are burned\, there’s one last parade to celebrate: the ‘Cavalcada del Foc’ or Fire Parade. \nThe Fire Parade is essentially a ‘Correfocs’ or Fire Run\, a procession where ‘dimonis’ or demons shoot sparks\, accompanied by mythological figures\, and playfully frighten attendees. This parade celebrates the upcoming ‘Cremà’ when the fallas will be burned. \nWhile the sparks aren’t dangerous\, you may experience slight discomfort on the skin and minor burns on clothing\, so it’s advisable to wear natural fabrics like cotton and clothes you don’t mind getting damaged. Additionally\, it’s useful to have a scarf to cover your mouth and breathe less smoke. \nThe 2025 Valencia Fallas Fire Parade starts at 7 p.m. on Calle de la Paz and continues to Porta del Mar.
URL:https://experiencefallasvalencia.com/event/cavalcada-del-foc-fire-parade-valencia-fallas-2025/
LOCATION:Carrer de la Pau\, Carrer de la Pau\, Valencia\, Valencia\, 46003\, Spain
CATEGORIES:Fallas parades and events
ATTACH;FMTTYPE=image/jpeg:https://experiencefallasvalencia.com/wp-content/uploads/2024/02/Events-cavalcada-del-foc.jpg
END:VEVENT
BEGIN:VEVENT
DTSTART;TZID=Europe/Madrid:20250319T200000
DTEND;TZID=Europe/Madrid:20250319T203000
DTSTAMP:20260422T043431
CREATED:20240820T091239Z
LAST-MODIFIED:20240820T091239Z
UID:1357-1742414400-1742416200@experiencefallasvalencia.com
SUMMARY:'Cremà' or the burning of the Children's Fallas 2025
DESCRIPTION:The end of the Valencia Fallas 2025 is here. At 8:00 PM\, the children’s fallas are burned\, followed by the main ones at 10:00 PM. \nThe first prize-winning children’s falla is burned at 8:30 PM\, while the first prize-winning main falla is burned at 10:30 PM. \nFinally\, the Municipal Falla\, representing all Valencians\, is burned at 11:00 PM in the Town Hall Square\, and the childre’ns falla between all others and the winner\, at 21:00 P.M. \nAlthough each year this schedule becomes more accurate\, it may vary due to the need for the assistance of firefighters\, especially in the case of larger or buildings-adjacent fallas\, for prevention tasks such as keeping facades or trees moist. \nIt’s an emotional moment led by the Children’s President and Children’s Fallera Mayor of each committee\, as well as the President and Fallera Mayor.
URL:https://experiencefallasvalencia.com/event/crema-burning-childrens-small-valencia-fallas-2025/
LOCATION:Valencia
CATEGORIES:Fallas contemplation
ATTACH;FMTTYPE=image/jpeg:https://experiencefallasvalencia.com/wp-content/uploads/2024/02/Site-image-720p.jpg
END:VEVENT
BEGIN:VEVENT
DTSTART;TZID=Europe/Madrid:20250319T203000
DTEND;TZID=Europe/Madrid:20250319T210000
DTSTAMP:20260422T043431
CREATED:20240820T091430Z
LAST-MODIFIED:20241113T102736Z
UID:1359-1742416200-1742418000@experiencefallasvalencia.com
SUMMARY:'Cremà' or Burning of the first prize winning Children's Falla 2025
DESCRIPTION:The end of the Valencia Fallas 2025 is here. At 8:00 PM\, the children’s fallas are burned\, followed by the main ones at 10:00 PM. \nThe first prize-winning children’s falla is burned at 8:30 PM\, while the first prize-winning main falla is burned at 10:30 PM. \nFinally\, the Municipal Falla\, representing all Valencians\, is burned at 11:00 PM in the Town Hall Square\, and the children’s falla between all others and the winner\, at 21:00 P.M. \nAlthough each year this schedule becomes more accurate\, it may vary due to the need for the assistance of firefighters\, especially in the case of larger or buildings-adjacent fallas\, for prevention tasks such as keeping facades or trees moist. \nIt’s an emotional moment led by the Children’s President and Children’s Fallera Mayor of each committee\, as well as the President and Fallera Mayor.
URL:https://experiencefallasvalencia.com/event/crema-burning-prize-winning-childrens-falla-valencia-2025/
LOCATION:Valencia
CATEGORIES:Fallas contemplation
ATTACH;FMTTYPE=image/jpeg:https://experiencefallasvalencia.com/wp-content/uploads/2024/02/Site-image-720p.jpg
END:VEVENT
BEGIN:VEVENT
DTSTART;TZID=Europe/Madrid:20250319T210000
DTEND;TZID=Europe/Madrid:20250319T213000
DTSTAMP:20260422T043431
CREATED:20240820T091614Z
LAST-MODIFIED:20240820T091614Z
UID:1361-1742418000-1742419800@experiencefallasvalencia.com
SUMMARY:'Cremà' or Burning of the Children's Municipal Falla 2025
DESCRIPTION:The end of the Valencia Fallas 2025 is here. At 8:00 PM\, the children’s fallas are burned\, followed by the main ones at 10:00 PM. \nThe first prize-winning children’s falla is burned at 8:30 PM\, while the first prize-winning main falla is burned at 10:30 PM. \nFinally\, the Municipal Falla\, representing all Valencians\, is burned at 11:00 PM in the Town Hall Square\, and the children’s falla between all others and the winner\, at 21:00 P.M. \nAlthough each year this schedule becomes more accurate\, it may vary due to the need for the assistance of firefighters\, especially in the case of larger or buildings-adjacent fallas\, for prevention tasks such as keeping facades or trees moist. \nIt’s an emotional moment led by the Children’s President and Children’s Fallera Mayor of each committee\, as well as the President and Fallera Mayor.
URL:https://experiencefallasvalencia.com/event/crema-burning-childrens-municipal-valencia-falla-2025/
LOCATION:Plaça de l’Ajuntament\, Pl. de l'Ajuntament\, Valencia\, Valencia\, 46002\, Spain
CATEGORIES:Fallas contemplation
ATTACH;FMTTYPE=image/jpeg:https://experiencefallasvalencia.com/wp-content/uploads/2024/02/Site-image-720p.jpg
END:VEVENT
BEGIN:VEVENT
DTSTART;TZID=Europe/Madrid:20250319T220000
DTEND;TZID=Europe/Madrid:20250319T223000
DTSTAMP:20260422T043431
CREATED:20240820T091800Z
LAST-MODIFIED:20241113T102645Z
UID:1363-1742421600-1742423400@experiencefallasvalencia.com
SUMMARY:'Cremà' or Burning of the main Fallas 2025
DESCRIPTION:The end of the Valencia Fallas 2025 is here. At 8:00 PM\, the children’s fallas are burned\, followed by the main ones at 10:00 PM. \nThe first prize-winning children’s falla is burned at 8:30 PM\, while the first prize-winning main falla is burned at 10:30 PM. \nFinally\, the Municipal Falla\, representing all Valencians\, is burned at 11:00 PM in the Town Hall Square\, and the children’s falla between all others and the winner\, at 21:00 P.M. \nAlthough each year this schedule becomes more accurate\, it may vary due to the need for the assistance of firefighters\, especially in the case of larger or buildings-adjacent fallas\, for prevention tasks such as keeping facades or trees moist. \nIt’s an emotional moment led by the Children’s President and Children’s Fallera Mayor of each committee\, as well as the President and Fallera Mayor.
URL:https://experiencefallasvalencia.com/event/crema-burning-main-bif-fallas-2025-valencia/
LOCATION:Valencia
CATEGORIES:Fallas contemplation
ATTACH;FMTTYPE=image/jpeg:https://experiencefallasvalencia.com/wp-content/uploads/2024/02/Site-image-720p.jpg
END:VEVENT
BEGIN:VEVENT
DTSTART;TZID=Europe/Madrid:20250319T223000
DTEND;TZID=Europe/Madrid:20250319T230000
DTSTAMP:20260422T043431
CREATED:20240820T092002Z
LAST-MODIFIED:20240820T092002Z
UID:1365-1742423400-1742425200@experiencefallasvalencia.com
SUMMARY:'Cremà' or Burning of the first prize Main Falla 2025
DESCRIPTION:The end of the Valencia Fallas 2025 is here. At 8:00 PM\, the children’s fallas are burned\, followed by the main ones at 10:00 PM. \nThe first prize-winning children’s falla is burned at 8:30 PM\, while the first prize-winning main falla is burned at 10:30 PM. \nFinally\, the Municipal Falla\, representing all Valencians\, is burned at 11:00 PM in the Town Hall Square\, and the childre’ns falla between all others and the winner\, at 21:00 P.M. \nAlthough each year this schedule becomes more accurate\, it may vary due to the need for the assistance of firefighters\, especially in the case of larger or buildings-adjacent fallas\, for prevention tasks such as keeping facades or trees moist. \nIt’s an emotional moment led by the Children’s President and Children’s Fallera Mayor of each committee\, as well as the President and Fallera Mayor.
URL:https://experiencefallasvalencia.com/event/crema-burning-first-prize-main-big-falla-valencia-fallas-2025/
LOCATION:Valencia
CATEGORIES:Fallas contemplation
ATTACH;FMTTYPE=image/jpeg:https://experiencefallasvalencia.com/wp-content/uploads/2024/02/Site-image-720p.jpg
END:VEVENT
END:VCALENDAR