BEGIN:VCALENDAR
VERSION:2.0
PRODID:-//Experience Fallas Valencia - A festival of fire and roots! - ECPv6.15.20//NONSGML v1.0//EN
CALSCALE:GREGORIAN
METHOD:PUBLISH
X-WR-CALNAME:Experience Fallas Valencia - A festival of fire and roots!
X-ORIGINAL-URL:https://experiencefallasvalencia.com
X-WR-CALDESC:Events for Experience Fallas Valencia - A festival of fire and roots!
REFRESH-INTERVAL;VALUE=DURATION:PT1H
X-Robots-Tag:noindex
X-PUBLISHED-TTL:PT1H
BEGIN:VTIMEZONE
TZID:Europe/Madrid
BEGIN:DAYLIGHT
TZOFFSETFROM:+0100
TZOFFSETTO:+0200
TZNAME:CEST
DTSTART:20230326T010000
END:DAYLIGHT
BEGIN:STANDARD
TZOFFSETFROM:+0200
TZOFFSETTO:+0100
TZNAME:CET
DTSTART:20231029T010000
END:STANDARD
BEGIN:DAYLIGHT
TZOFFSETFROM:+0100
TZOFFSETTO:+0200
TZNAME:CEST
DTSTART:20240331T010000
END:DAYLIGHT
BEGIN:STANDARD
TZOFFSETFROM:+0200
TZOFFSETTO:+0100
TZNAME:CET
DTSTART:20241027T010000
END:STANDARD
BEGIN:DAYLIGHT
TZOFFSETFROM:+0100
TZOFFSETTO:+0200
TZNAME:CEST
DTSTART:20250330T010000
END:DAYLIGHT
BEGIN:STANDARD
TZOFFSETFROM:+0200
TZOFFSETTO:+0100
TZNAME:CET
DTSTART:20251026T010000
END:STANDARD
END:VTIMEZONE
BEGIN:VEVENT
DTSTART;TZID=Europe/Madrid:20240317T093000
DTEND;TZID=Europe/Madrid:20240317T130000
DTSTAMP:20260421T180740
CREATED:20240213T102720Z
LAST-MODIFIED:20240213T102819Z
UID:643-1710667800-1710680400@experiencefallasvalencia.com
SUMMARY:Awards ceremony for the main Fallas
DESCRIPTION:The various fallas committees parade in front of the grandstand set up in front of the València City Hall to collect the awards for the main fallas of 2024\, the street lighting\, and ‘llibrets’ —small books published by the fallas with the schedule\, contributors\, and free content\, which can be for children or general—. Throughout the event\, there is a festive atmosphere\, music\, and traditional bands.
URL:https://experiencefallasvalencia.com/event/prize-giving-main-big-fallas-valencia-2024/
LOCATION:Plaça de l’Ajuntament\, Pl. de l'Ajuntament\, Valencia\, Valencia\, 46002\, Spain
CATEGORIES:Fallas parades and events
ATTACH;FMTTYPE=image/jpeg:https://experiencefallasvalencia.com/wp-content/uploads/2024/02/Site-image-720p.jpg
END:VEVENT
BEGIN:VEVENT
DTSTART;TZID=Europe/Madrid:20240317T000000
DTEND;TZID=Europe/Madrid:20240317T002000
DTSTAMP:20260421T180740
CREATED:20240213T100131Z
LAST-MODIFIED:20240213T102005Z
UID:633-1710633600-1710634800@experiencefallasvalencia.com
SUMMARY:1st Big night fireworks show
DESCRIPTION:First major nighttime fireworks display of the 2024 Valencia Fallas\, in the area of the City of Arts and Sciences\, to the left of the Reina Sofía Arts Palace when coming from the city center. Remember to arrive well in advance if you want to have a good view. At least\, an hour beforehand. Don’t worry: there are people and a lively atmosphere to entertain you during the wait. Fireworks by the pyrotechnicians Martí.
URL:https://experiencefallasvalencia.com/event/1st-big-night-fireworks-show-fallas-valencia-2024/
LOCATION:Palau de les Arts Reina Sofía\, Av. del professor López Piñero 1\, Quatre Carreres\, Valencia\, Valencia\, 46013\, Spain
CATEGORIES:Fallas fireworks show
ATTACH;FMTTYPE=image/jpeg:https://experiencefallasvalencia.com/wp-content/uploads/2024/02/events-fireworks.jpg
END:VEVENT
BEGIN:VEVENT
DTSTART;TZID=Europe/Madrid:20240316T163000
DTEND;TZID=Europe/Madrid:20240316T210000
DTSTAMP:20260421T180740
CREATED:20240213T101501Z
LAST-MODIFIED:20240213T102908Z
UID:640-1710606600-1710622800@experiencefallasvalencia.com
SUMMARY:Awards ceremony for Children's Fallas
DESCRIPTION:The various fallas committees parade in front of the grandstand set up in front of the València City Hall to collect the awards for the Children’s Valencia Fallas 2024\, as well as for the best decorations in the Ninot Parade and children’s ‘llibrets’ —small books published by the fallas with the schedule\, contributors\, and free content\, which can be for children or general—. Throughout the event\, there is a festive atmosphere\, music\, and traditional bands.
URL:https://experiencefallasvalencia.com/event/prize-giving-childrens-fallas-valencia-2024/
LOCATION:Plaça de l’Ajuntament\, Pl. de l'Ajuntament\, Valencia\, Valencia\, 46002\, Spain
CATEGORIES:Fallas parades and events
ATTACH;FMTTYPE=image/jpeg:https://experiencefallasvalencia.com/wp-content/uploads/2024/02/Site-image-720p.jpg
END:VEVENT
BEGIN:VEVENT
DTSTART;TZID=Europe/Madrid:20240316T140000
DTEND;TZID=Europe/Madrid:20240316T142000
DTSTAMP:20260421T180740
CREATED:20240208T124312Z
LAST-MODIFIED:20240208T193437Z
UID:568-1710597600-1710598800@experiencefallasvalencia.com
SUMMARY:16th Mascletà of the Fallas of Valencia 2024
DESCRIPTION:16th Mascletà de las Fallas de Valencia 2024. Every day from 1 to 19 at 2 p.m. Remember to go well in advance if you want to have good visibility\, but the most important thing is the sound. \nMascletà made by Altana pyrotechnics.
URL:https://experiencefallasvalencia.com/event/16th-mascleta-fallas-valencia-2024/
LOCATION:Plaça de l’Ajuntament\, Pl. de l'Ajuntament\, Valencia\, Valencia\, 46002\, Spain
CATEGORIES:Fallas fireworks show
ATTACH;FMTTYPE=image/jpeg:https://experiencefallasvalencia.com/wp-content/uploads/2024/02/Events-mascleta.jpg
END:VEVENT
BEGIN:VEVENT
DTSTART;TZID=Europe/Madrid:20240316T000000
DTEND;TZID=Europe/Madrid:20240316T010000
DTSTAMP:20260421T180740
CREATED:20240208T200215Z
LAST-MODIFIED:20240208T200617Z
UID:627-1710547200-1710550800@experiencefallasvalencia.com
SUMMARY:'L'Albà de les Falles' and fireworks shows
DESCRIPTION:During the night when the fallas are set up\, the ‘Plantà’\, is known as the ‘Nit de l’Albà’ o ‘l’Albà de les Falles’. The translation from valencian is something close to ‘Night of Dawn’. During this night\, around 12 o’clock\, many Fallas committees launch their own fireworks displays. Additionally\, there is a large main one in the Town Hall Square\, by the pyrotechnicians Altana.
URL:https://experiencefallasvalencia.com/event/nit-de-lalbla-fireworks-shows-night-mascleta-fallas-valencia-2024/
LOCATION:Plaça de l’Ajuntament\, Pl. de l'Ajuntament\, Valencia\, Valencia\, 46002\, Spain
CATEGORIES:Fallas fireworks show
ATTACH;FMTTYPE=image/jpeg:https://experiencefallasvalencia.com/wp-content/uploads/2024/02/events-fireworks.jpg
END:VEVENT
BEGIN:VEVENT
DTSTART;TZID=Europe/Madrid:20240315T210000
DTEND;TZID=Europe/Madrid:20240316T040000
DTSTAMP:20260421T180740
CREATED:20240207T142917Z
LAST-MODIFIED:20240208T193445Z
UID:470-1710536400-1710561600@experiencefallasvalencia.com
SUMMARY:Plantà 2024
DESCRIPTION:The traduction would be something close to ‘Falla setting up’. It’s the moment when the Falla commissions finish setting up the big Falla and begin its exhibition —not the children’s o small Falla\, that is the next morning—.
URL:https://experiencefallasvalencia.com/event/planta-fallas-2024/
LOCATION:Valencia
CATEGORIES:Fallas contemplation
ATTACH;FMTTYPE=image/jpeg:https://experiencefallasvalencia.com/wp-content/uploads/2024/02/Site-image-720p.jpg
END:VEVENT
BEGIN:VEVENT
DTSTART;TZID=Europe/Madrid:20240315T140000
DTEND;TZID=Europe/Madrid:20240315T142000
DTSTAMP:20260421T180740
CREATED:20240208T124158Z
LAST-MODIFIED:20240208T193454Z
UID:566-1710511200-1710512400@experiencefallasvalencia.com
SUMMARY:15th Mascletà of the Fallas of Valencia 2024
DESCRIPTION:15th Mascletà de las Fallas de Valencia 2024. Every day from 1 to 19 at 2 p.m. Remember to go well in advance if you want to have good visibility\, but the most important thing is the sound. \nMascletà made by Vulcano pyrotechnics.
URL:https://experiencefallasvalencia.com/event/15th-mascleta-fallas-valencia-2024/
LOCATION:Plaça de l’Ajuntament\, Pl. de l'Ajuntament\, Valencia\, Valencia\, 46002\, Spain
CATEGORIES:Fallas fireworks show
ATTACH;FMTTYPE=image/jpeg:https://experiencefallasvalencia.com/wp-content/uploads/2024/02/Events-mascleta.jpg
END:VEVENT
BEGIN:VEVENT
DTSTART;TZID=Europe/Madrid:20240315T080000
DTEND;TZID=Europe/Madrid:20240315T100000
DTSTAMP:20260421T180740
CREATED:20240207T142454Z
LAST-MODIFIED:20240208T193509Z
UID:465-1710489600-1710496800@experiencefallasvalencia.com
SUMMARY:Plantà infantil fallas 2024
DESCRIPTION:The traduction wold be something close to ‘Children’s fallas setting up’. It’s the moment when the falla commissions finish setting up the children’s falla and begin its exhibition.
URL:https://experiencefallasvalencia.com/event/childrens-fallas-setting-up-2024/
LOCATION:Valencia
CATEGORIES:Fallas contemplation
ATTACH;FMTTYPE=image/jpeg:https://experiencefallasvalencia.com/wp-content/uploads/2024/02/Site-image-720p.jpg
END:VEVENT
BEGIN:VEVENT
DTSTART;TZID=Europe/Madrid:20240314T140000
DTEND;TZID=Europe/Madrid:20240314T142000
DTSTAMP:20260421T180740
CREATED:20240208T124007Z
LAST-MODIFIED:20240208T193522Z
UID:564-1710424800-1710426000@experiencefallasvalencia.com
SUMMARY:14th Mascletà of the Fallas of Valencia 2024
DESCRIPTION:14th Mascletà de las Fallas de Valencia 2024. Every day from 1 to 19 at 2 p.m. Remember to go well in advance if you want to have good visibility\, but the most important thing is the sound. \nMascletà made by Zarzoso pyrotechnics.
URL:https://experiencefallasvalencia.com/event/14th-mascleta-fallas-valencia-2024/
LOCATION:Plaça de l’Ajuntament\, Pl. de l'Ajuntament\, Valencia\, Valencia\, 46002\, Spain
CATEGORIES:Fallas fireworks show
ATTACH;FMTTYPE=image/jpeg:https://experiencefallasvalencia.com/wp-content/uploads/2024/02/Events-mascleta.jpg
END:VEVENT
BEGIN:VEVENT
DTSTART;TZID=Europe/Madrid:20240313T140000
DTEND;TZID=Europe/Madrid:20240313T142000
DTSTAMP:20260421T180740
CREATED:20240208T123850Z
LAST-MODIFIED:20240208T193533Z
UID:562-1710338400-1710339600@experiencefallasvalencia.com
SUMMARY:13th Mascletà of the Fallas of Valencia 2024
DESCRIPTION:13th Mascletà de las Fallas de Valencia 2024. Every day from 1 to 19 at 2 p.m. Remember to go well in advance if you want to have good visibility\, but the most important thing is the sound. \nMascletà made by Turís pyrotechnics.
URL:https://experiencefallasvalencia.com/event/13th-mascleta-fallas-valencia-2024/
LOCATION:Plaça de l’Ajuntament\, Pl. de l'Ajuntament\, Valencia\, Valencia\, 46002\, Spain
CATEGORIES:Fallas fireworks show
ATTACH;FMTTYPE=image/jpeg:https://experiencefallasvalencia.com/wp-content/uploads/2024/02/Events-mascleta.jpg
END:VEVENT
BEGIN:VEVENT
DTSTART;TZID=Europe/Madrid:20240312T140000
DTEND;TZID=Europe/Madrid:20240312T142000
DTSTAMP:20260421T180740
CREATED:20240208T123741Z
LAST-MODIFIED:20240208T193552Z
UID:560-1710252000-1710253200@experiencefallasvalencia.com
SUMMARY:12th Mascletà of the Fallas of Valencia 2024
DESCRIPTION:12th Mascletà de las Fallas de Valencia 2024. Every day from 1 to 19 at 2 p.m. Remember to go well in advance if you want to have good visibility\, but the most important thing is the sound. \nMascletà made by Crespo pyrotechnics.
URL:https://experiencefallasvalencia.com/event/12th-mascleta-fallas-valencia-2024/
LOCATION:Plaça de l’Ajuntament\, Pl. de l'Ajuntament\, Valencia\, Valencia\, 46002\, Spain
CATEGORIES:Fallas fireworks show
ATTACH;FMTTYPE=image/jpeg:https://experiencefallasvalencia.com/wp-content/uploads/2024/02/Events-mascleta.jpg
END:VEVENT
BEGIN:VEVENT
DTSTART;TZID=Europe/Madrid:20240311T140000
DTEND;TZID=Europe/Madrid:20240311T142000
DTSTAMP:20260421T180740
CREATED:20240208T123514Z
LAST-MODIFIED:20240208T195413Z
UID:558-1710165600-1710166800@experiencefallasvalencia.com
SUMMARY:11th Mascletà of the Fallas of Valencia 2024
DESCRIPTION:11th Mascletà de las Fallas de Valencia 2024. Every day from 1 to 19 at 2 p.m. Remember to go well in advance if you want to have good visibility\, but the most important thing is the sound. \nMascletà made by Tomás pyrotechnics.
URL:https://experiencefallasvalencia.com/event/11th-mascleta-fallas-valencia-2024/
LOCATION:Plaça de l’Ajuntament\, Pl. de l'Ajuntament\, Valencia\, Valencia\, 46002\, Spain
CATEGORIES:Fallas fireworks show
ATTACH;FMTTYPE=image/jpeg:https://experiencefallasvalencia.com/wp-content/uploads/2024/02/Events-mascleta.jpg
END:VEVENT
BEGIN:VEVENT
DTSTART;TZID=Europe/Madrid:20240311T000000
DTEND;TZID=Europe/Madrid:20240311T002000
DTSTAMP:20260421T180740
CREATED:20240208T195043Z
LAST-MODIFIED:20240208T195423Z
UID:621-1710115200-1710116400@experiencefallasvalencia.com
SUMMARY:5th Firework display or 'Night mascletà'
DESCRIPTION:Fireworks display at the Town Hall Square\, presented by the pyrotechnicians Valenciana. Usually known as ‘night mascletà’.
URL:https://experiencefallasvalencia.com/event/5th-firework-display-night-mascleta-fallas-valencia-2024/
LOCATION:Plaça de l’Ajuntament\, Pl. de l'Ajuntament\, Valencia\, Valencia\, 46002\, Spain
CATEGORIES:Fallas fireworks show
ATTACH;FMTTYPE=image/jpeg:https://experiencefallasvalencia.com/wp-content/uploads/2024/02/events-fireworks.jpg
END:VEVENT
BEGIN:VEVENT
DTSTART;TZID=Europe/Madrid:20240310T140000
DTEND;TZID=Europe/Madrid:20240310T142000
DTSTAMP:20260421T180740
CREATED:20240208T123129Z
LAST-MODIFIED:20240208T193609Z
UID:556-1710079200-1710080400@experiencefallasvalencia.com
SUMMARY:10th Mascletà of the Fallas of Valencia 2024
DESCRIPTION:10th Mascletà de las Fallas de Valencia 2024. Every day from 1 to 19 at 2 p.m. Remember to go well in advance if you want to have good visibility\, but the most important thing is the sound. \nMascletà made by Alpajurreña pyrotechnics.
URL:https://experiencefallasvalencia.com/event/10th-mascleta-fallas-valencia-2024/
LOCATION:Plaça de l’Ajuntament\, Pl. de l'Ajuntament\, Valencia\, Valencia\, 46002\, Spain
CATEGORIES:Fallas fireworks show
ATTACH;FMTTYPE=image/jpeg:https://experiencefallasvalencia.com/wp-content/uploads/2024/02/Events-mascleta.jpg
END:VEVENT
BEGIN:VEVENT
DTSTART;TZID=Europe/Madrid:20240310T000000
DTEND;TZID=Europe/Madrid:20240310T002000
DTSTAMP:20260421T180740
CREATED:20240208T194814Z
LAST-MODIFIED:20240208T195428Z
UID:619-1710028800-1710030000@experiencefallasvalencia.com
SUMMARY:4th Firework display or 'Night mascletà'
DESCRIPTION:Fireworks display at the Town Hall Square\, presented by the pyrotechnicians Tamarit. Usually known as ‘night mascletà’.
URL:https://experiencefallasvalencia.com/event/4th-firework-display-night-mascleta-fallas-valencia-2024/
LOCATION:Plaça de l’Ajuntament\, Pl. de l'Ajuntament\, Valencia\, Valencia\, 46002\, Spain
CATEGORIES:Fallas fireworks show
ATTACH;FMTTYPE=image/jpeg:https://experiencefallasvalencia.com/wp-content/uploads/2024/02/events-fireworks.jpg
END:VEVENT
BEGIN:VEVENT
DTSTART;TZID=Europe/Madrid:20240309T140000
DTEND;TZID=Europe/Madrid:20240309T142000
DTSTAMP:20260421T180740
CREATED:20240208T122820Z
LAST-MODIFIED:20240208T193617Z
UID:550-1709992800-1709994000@experiencefallasvalencia.com
SUMMARY:9th Mascletà of the Fallas of Valencia 2024
DESCRIPTION:9th Mascletà de las Fallas de Valencia 2024. Every day from 1 to 19 at 2 p.m. Remember to go well in advance if you want to have good visibility\, but the most important thing is the sound. \nMascletà made by Tamarit pyrotechnics.
URL:https://experiencefallasvalencia.com/event/9th-mascleta-fallas-valencia-2024/
LOCATION:Plaça de l’Ajuntament\, Pl. de l'Ajuntament\, Valencia\, Valencia\, 46002\, Spain
CATEGORIES:Fallas fireworks show
ATTACH;FMTTYPE=image/jpeg:https://experiencefallasvalencia.com/wp-content/uploads/2024/02/Events-mascleta.jpg
END:VEVENT
BEGIN:VEVENT
DTSTART;TZID=Europe/Madrid:20240309T000000
DTEND;TZID=Europe/Madrid:20240309T002000
DTSTAMP:20260421T180740
CREATED:20240208T194620Z
LAST-MODIFIED:20240208T195442Z
UID:617-1709942400-1709943600@experiencefallasvalencia.com
SUMMARY:3rd Firework display or 'Night mascletà'
DESCRIPTION:Fireworks display at the Town Hall Square\, presented by the pyrotechnicians Nadal-Martí. Usually known as ‘night mascletà’.
URL:https://experiencefallasvalencia.com/event/3rd-firework-display-night-mascleta-fallas-valencia-2024/
LOCATION:Plaça de l’Ajuntament\, Pl. de l'Ajuntament\, Valencia\, Valencia\, 46002\, Spain
CATEGORIES:Fallas fireworks show
ATTACH;FMTTYPE=image/jpeg:https://experiencefallasvalencia.com/wp-content/uploads/2024/02/events-fireworks.jpg
END:VEVENT
BEGIN:VEVENT
DTSTART;TZID=Europe/Madrid:20240308T140000
DTEND;TZID=Europe/Madrid:20240308T142000
DTSTAMP:20260421T180740
CREATED:20240208T122657Z
LAST-MODIFIED:20240208T193624Z
UID:547-1709906400-1709907600@experiencefallasvalencia.com
SUMMARY:8th Mascletà of the Fallas of Valencia 2024
DESCRIPTION:8th Mascletà de las Fallas de Valencia 2024. Every day from 1 to 19 at 2 p.m. Remember to go well in advance if you want to have good visibility\, but the most important thing is the sound. \nMascletà made by Martí pyrotechnics.
URL:https://experiencefallasvalencia.com/event/8th-mascleta-fallas-valencia-2024/
LOCATION:Plaça de l’Ajuntament\, Pl. de l'Ajuntament\, Valencia\, Valencia\, 46002\, Spain
CATEGORIES:Fallas fireworks show
ATTACH;FMTTYPE=image/jpeg:https://experiencefallasvalencia.com/wp-content/uploads/2024/02/Events-mascleta.jpg
END:VEVENT
BEGIN:VEVENT
DTSTART;TZID=Europe/Madrid:20240307T140000
DTEND;TZID=Europe/Madrid:20240307T142000
DTSTAMP:20260421T180740
CREATED:20240208T122514Z
LAST-MODIFIED:20240208T193634Z
UID:545-1709820000-1709821200@experiencefallasvalencia.com
SUMMARY:7th Mascletà of the Fallas of Valencia 2024
DESCRIPTION:7th Mascletà de las Fallas de Valencia 2024. Every day from 1 to 19 at 2 p.m. Remember to go well in advance if you want to have good visibility\, but the most important thing is the sound. \nMascletà made by Nadal-Martí pyrotechnics.
URL:https://experiencefallasvalencia.com/event/7th-mascleta-fallas-valencia-2024/
LOCATION:Plaça de l’Ajuntament\, Pl. de l'Ajuntament\, Valencia\, Valencia\, 46002\, Spain
CATEGORIES:Fallas fireworks show
ATTACH;FMTTYPE=image/jpeg:https://experiencefallasvalencia.com/wp-content/uploads/2024/02/Events-mascleta.jpg
END:VEVENT
BEGIN:VEVENT
DTSTART;TZID=Europe/Madrid:20240306T140000
DTEND;TZID=Europe/Madrid:20240306T142000
DTSTAMP:20260421T180740
CREATED:20240208T122237Z
LAST-MODIFIED:20240208T193642Z
UID:537-1709733600-1709734800@experiencefallasvalencia.com
SUMMARY:6th Mascletà of the Fallas of Valencia 2024
DESCRIPTION:6th Mascletà of the Fallas of Valencia 2024. Every day from 1 to 19 at 2 p.m. Remember to go well in advance if you want to have good visibility\, but the most important thing is the sound. \nMascletà made by Pibierzo pyrotechnics.
URL:https://experiencefallasvalencia.com/event/6th-macleta-fallas-valencia-2024/
LOCATION:Plaça de l’Ajuntament\, Pl. de l'Ajuntament\, Valencia\, Valencia\, 46002\, Spain
CATEGORIES:Fallas fireworks show
ATTACH;FMTTYPE=image/jpeg:https://experiencefallasvalencia.com/wp-content/uploads/2024/02/Events-mascleta.jpg
END:VEVENT
BEGIN:VEVENT
DTSTART;TZID=Europe/Madrid:20240305T140000
DTEND;TZID=Europe/Madrid:20240305T142000
DTSTAMP:20260421T180740
CREATED:20240208T122048Z
LAST-MODIFIED:20240208T193652Z
UID:535-1709647200-1709648400@experiencefallasvalencia.com
SUMMARY:5th Mascletà of the Fallas of Valencia 2024
DESCRIPTION:5th Mascletà of the Fallas of Valencia 2024. Every day from 1 to 19 at 2 p.m. Remember to go well in advance if you want to have good visibility\, but the most important thing is the sound. \nMascletà made by Dragón pyrotechnics.
URL:https://experiencefallasvalencia.com/event/5th-mascleta-fallas-valencia-2024/
LOCATION:Plaça de l’Ajuntament\, Pl. de l'Ajuntament\, Valencia\, Valencia\, 46002\, Spain
CATEGORIES:Fallas fireworks show
ATTACH;FMTTYPE=image/jpeg:https://experiencefallasvalencia.com/wp-content/uploads/2024/02/Events-mascleta.jpg
END:VEVENT
BEGIN:VEVENT
DTSTART;TZID=Europe/Madrid:20240304T140000
DTEND;TZID=Europe/Madrid:20240304T142000
DTSTAMP:20260421T180740
CREATED:20240208T121826Z
LAST-MODIFIED:20240819T184853Z
UID:533-1709560800-1709562000@experiencefallasvalencia.com
SUMMARY:4th Mascletà of the Fallas of Valencia 2024
DESCRIPTION:4th Mascletà of the Fallas of Valencia 2024. Every day from 1 to 19 at 2 p.m. Remember to go well in advance if you want to have good visibility\, but the most important thing is the sound. \nMascletà made by Camp del Túria pyrotechnics.
URL:https://experiencefallasvalencia.com/event/4th-mascleta-fallas-valencia-2024/
LOCATION:Plaça de l’Ajuntament\, Pl. de l'Ajuntament\, Valencia\, Valencia\, 46002\, Spain
CATEGORIES:Fallas fireworks show
ATTACH;FMTTYPE=image/jpeg:https://experiencefallasvalencia.com/wp-content/uploads/2024/02/Events-mascleta.jpg
END:VEVENT
BEGIN:VEVENT
DTSTART;TZID=Europe/Madrid:20240304T000000
DTEND;TZID=Europe/Madrid:20240304T002000
DTSTAMP:20260421T180740
CREATED:20240208T194328Z
LAST-MODIFIED:20240213T115211Z
UID:613-1709510400-1709511600@experiencefallasvalencia.com
SUMMARY:2nd Firework display or 'Night mascletà'
DESCRIPTION:Fireworks display at the Town Hall Square\, presented by the pyrotechnicians Zaragozana. Usually known as ‘night mascletà’.
URL:https://experiencefallasvalencia.com/event/2nd-firework-display-night-mascleta-valencia-fallas-2024/
LOCATION:Plaça de l’Ajuntament\, Pl. de l'Ajuntament\, Valencia\, Valencia\, 46002\, Spain
CATEGORIES:Fallas fireworks show
ATTACH;FMTTYPE=image/jpeg:https://experiencefallasvalencia.com/wp-content/uploads/2024/02/events-fireworks.jpg
END:VEVENT
BEGIN:VEVENT
DTSTART;TZID=Europe/Madrid:20240303T140000
DTEND;TZID=Europe/Madrid:20240303T142000
DTSTAMP:20260421T180740
CREATED:20240208T121614Z
LAST-MODIFIED:20240819T184737Z
UID:531-1709474400-1709475600@experiencefallasvalencia.com
SUMMARY:3rd Mascletà of the Fallas of Valencia 2024
DESCRIPTION:3rd Mascletà of the Fallas of Valencia 2024. Every day from 1 to 19 at 2 p.m. Remember to go well in advance if you want to have good visibility\, but the most important thing is the sound. \nMascletà made by Gironina pyrotechnics.
URL:https://experiencefallasvalencia.com/event/3rd-mascleta-fallas-valencia-2024/
LOCATION:Plaça de l’Ajuntament\, Pl. de l'Ajuntament\, Valencia\, Valencia\, 46002\, Spain
CATEGORIES:Fallas fireworks show
ATTACH;FMTTYPE=image/jpeg:https://experiencefallasvalencia.com/wp-content/uploads/2024/02/Events-mascleta.jpg
END:VEVENT
BEGIN:VEVENT
DTSTART;TZID=Europe/Madrid:20240303T100000
DTEND;TZID=Europe/Madrid:20240303T130000
DTSTAMP:20260421T180740
CREATED:20240208T202722Z
LAST-MODIFIED:20240208T202722Z
UID:608-1709460000-1709470800@experiencefallasvalencia.com
SUMMARY:Contest of the "Cant de l'Estoreta" 2024
DESCRIPTION:The ‘Cant de L’estoreta Velleta’ competition is deeply embedded in Valencia’s Fallas tradition\, organized by the Falla Plaça de l’Arbre and supported by the Junta Local Fallera. It emerged in 1961 as a homage to the childhood reminiscences of Plaça de l’Arbres falleros\, who recalled gathering old furniture for burning during the Fallas revelries. \nThroughout the contest\, participants don attire reflecting the typical Valencian styles of the 19th and 20th centuries\, rekindling the historic aura of Valencia. The ‘estoreta velleta’\, or old carpet in Valencian\, serves as a focal point\, having been utilized to ferry furniture contributed by locals. The competition’s name stems from this ‘estoreta velleta’\, alluding to the folk song sung by participants while engaging in this task. \nAt the event\, under the auspices of the Fallera Mayor Infantil and her Court of Honor\, contestants perform the traditional song\, thereby perpetuating the essence of historic Valencia and infusing the Fallas festivities with a nostalgic undertone.
URL:https://experiencefallasvalencia.com/event/contest-cant-de-lestoreta-fallas-valencia-2024/
LOCATION:Valencia
CATEGORIES:Fallas parades and events
ATTACH;FMTTYPE=image/jpeg:https://experiencefallasvalencia.com/wp-content/uploads/2024/02/Site-image-720p.jpg
END:VEVENT
BEGIN:VEVENT
DTSTART;TZID=Europe/Madrid:20240303T000000
DTEND;TZID=Europe/Madrid:20240303T002000
DTSTAMP:20260421T180740
CREATED:20240208T201303Z
LAST-MODIFIED:20240208T195134Z
UID:604-1709424000-1709425200@experiencefallasvalencia.com
SUMMARY:1st Firework display or 'Night mascletà'
DESCRIPTION:Fireworks display at the Town Hall Square\, presented by the pyrotechnicians Zarzoso. Usually known as ‘night mascletà’.
URL:https://experiencefallasvalencia.com/event/1st-firework-display-night-mascleta-valencia-fallas-2024/
LOCATION:Plaça de l’Ajuntament\, Pl. de l'Ajuntament\, Valencia\, Valencia\, 46002\, Spain
CATEGORIES:Fallas fireworks show
ATTACH;FMTTYPE=image/jpeg:https://experiencefallasvalencia.com/wp-content/uploads/2024/02/events-fireworks.jpg
END:VEVENT
BEGIN:VEVENT
DTSTART;TZID=Europe/Madrid:20240302T173000
DTEND;TZID=Europe/Madrid:20240302T193000
DTSTAMP:20260421T180740
CREATED:20240208T131105Z
LAST-MODIFIED:20240208T193321Z
UID:597-1709400600-1709407800@experiencefallasvalencia.com
SUMMARY:'Ninot' Parade
DESCRIPTION:The ‘Cavalcada del Ninot’\, Ninot Parade\, is a procession where members of fallas commissions dress up and parody current topics\, faithful to the satirical and critical spirit of the fallas\, with a lot of humor. The figures or ‘ninots’\, in general\, will not be placed in the fallas or are those in the Ninot Exhibition\, as it used to be. However\, the parade is concluded by the initial pieces that will be assembled for the Municipal Falla\, located in the Town Hall Square\, which this year is named ‘Two Doves. One Branch. \nThe parade route starts at Plaza Alfonso el Magnánimo\, then continues along Carrer La Pau\, San Vicente Mártir\, Plaça de l’Ajuntament\, and ends on Xàtiva\, in front of the Estación del Norte or North Station. \nIt’s best to arrive a bit early and stay at a point along the route to see the Fallas commissions pass by\, rather than following the parade closely.
URL:https://experiencefallasvalencia.com/event/ninot-parade-valencia-fallas-2024/
LOCATION:Plaça d’Alfons el Magnànim\, Plaça d'Alfons el Magnànim\, Valencia\, Valencia\, 46003\, Spain
CATEGORIES:Fallas parades and events
ATTACH;FMTTYPE=image/jpeg:https://experiencefallasvalencia.com/wp-content/uploads/2024/02/Events-cavalcada-del-ninot.jpg
END:VEVENT
BEGIN:VEVENT
DTSTART;TZID=Europe/Madrid:20240302T140000
DTEND;TZID=Europe/Madrid:20240302T142000
DTSTAMP:20260421T180740
CREATED:20240208T121507Z
LAST-MODIFIED:20240208T193312Z
UID:528-1709388000-1709389200@experiencefallasvalencia.com
SUMMARY:2nd Mascletà of Fallas of Valencia 2024
DESCRIPTION:2nd Mascletà of the Fallas of Valencia 2024. Every day from 1 to 19 at 2 p.m. Remember to go well in advance if you want to have good visibility\, but the most important thing is the sound. \nMascletà made by Zaragozana pyrotechnics.
URL:https://experiencefallasvalencia.com/event/2nd-mascleta-fallas-valencia-2024/
LOCATION:Plaça de l’Ajuntament\, Pl. de l'Ajuntament\, Valencia\, Valencia\, 46002\, Spain
CATEGORIES:Fallas fireworks show
ATTACH;FMTTYPE=image/jpeg:https://experiencefallasvalencia.com/wp-content/uploads/2024/02/Events-mascleta.jpg
END:VEVENT
BEGIN:VEVENT
DTSTART;TZID=Europe/Madrid:20240301T140000
DTEND;TZID=Europe/Madrid:20240301T142000
DTSTAMP:20260421T180740
CREATED:20240208T120947Z
LAST-MODIFIED:20240208T193240Z
UID:523-1709301600-1709302800@experiencefallasvalencia.com
SUMMARY:1st Mascletà of Fallas of Valencia 2024
DESCRIPTION:1st Mascletà of the Fallas of Valencia 2024. Every day from 1 to 19 at 2 p.m. Remember to go well in advance if you want to have good visibility\, but the most important thing is the sound. \nMascletà made by Peñarroja pyrotechnics.
URL:https://experiencefallasvalencia.com/event/1st-mascleta-fallas-valencia-2024/
LOCATION:Plaça de l’Ajuntament\, Pl. de l'Ajuntament\, Valencia\, Valencia\, 46002\, Spain
CATEGORIES:Fallas fireworks show
ATTACH;FMTTYPE=image/jpeg:https://experiencefallasvalencia.com/wp-content/uploads/2024/02/Events-mascleta.jpg
END:VEVENT
BEGIN:VEVENT
DTSTART;TZID=Europe/Madrid:20240225T190000
DTEND;TZID=Europe/Madrid:20240225T210000
DTSTAMP:20260421T180740
CREATED:20240207T143527Z
LAST-MODIFIED:20240223T092306Z
UID:474-1708887600-1708894800@experiencefallasvalencia.com
SUMMARY:POSTPONED - Crida 2024
DESCRIPTION:The Crida (Valencian word for ‘call’) always takes place on the last Sunday of February. The Falleras Mayores of Valencia announce the beginning of the Fallas calendar. There are fireworks and visual effects during and after the event.
URL:https://experiencefallasvalencia.com/event/crida-fallas-2024/
LOCATION:Torres de Serrans\, Plaça dels Furs\, Valencia\, Valencia\, 46003\, Spain
CATEGORIES:Fallas parades and events
ATTACH;FMTTYPE=image/jpeg:https://experiencefallasvalencia.com/wp-content/uploads/2024/02/Site-image-720p.jpg
END:VEVENT
END:VCALENDAR