BEGIN:VCALENDAR
VERSION:2.0
PRODID:-//Experience Fallas Valencia - A festival of fire and roots! - ECPv6.15.20//NONSGML v1.0//EN
CALSCALE:GREGORIAN
METHOD:PUBLISH
X-WR-CALNAME:Experience Fallas Valencia - A festival of fire and roots!
X-ORIGINAL-URL:https://experiencefallasvalencia.com
X-WR-CALDESC:Events for Experience Fallas Valencia - A festival of fire and roots!
REFRESH-INTERVAL;VALUE=DURATION:PT1H
X-Robots-Tag:noindex
X-PUBLISHED-TTL:PT1H
BEGIN:VTIMEZONE
TZID:Europe/Madrid
BEGIN:DAYLIGHT
TZOFFSETFROM:+0100
TZOFFSETTO:+0200
TZNAME:CEST
DTSTART:20240331T010000
END:DAYLIGHT
BEGIN:STANDARD
TZOFFSETFROM:+0200
TZOFFSETTO:+0100
TZNAME:CET
DTSTART:20241027T010000
END:STANDARD
BEGIN:DAYLIGHT
TZOFFSETFROM:+0100
TZOFFSETTO:+0200
TZNAME:CEST
DTSTART:20250330T010000
END:DAYLIGHT
BEGIN:STANDARD
TZOFFSETFROM:+0200
TZOFFSETTO:+0100
TZNAME:CET
DTSTART:20251026T010000
END:STANDARD
BEGIN:DAYLIGHT
TZOFFSETFROM:+0100
TZOFFSETTO:+0200
TZNAME:CEST
DTSTART:20260329T010000
END:DAYLIGHT
BEGIN:STANDARD
TZOFFSETFROM:+0200
TZOFFSETTO:+0100
TZNAME:CET
DTSTART:20261025T010000
END:STANDARD
END:VTIMEZONE
BEGIN:VEVENT
DTSTART;TZID=Europe/Madrid:20250312T140000
DTEND;TZID=Europe/Madrid:20250312T142000
DTSTAMP:20260421T195424
CREATED:20240820T082745Z
LAST-MODIFIED:20240820T082930Z
UID:1322-1741788000-1741789200@experiencefallasvalencia.com
SUMMARY:12th Mascletà of the Fallas of Valencia 2025
DESCRIPTION:12th Mascletà de las Fallas de Valencia 2025. Every day from 1 to 19 at 2 p.m. Remember to go well in advance if you want to have good visibility\, but the most important thing is the sound.
URL:https://experiencefallasvalencia.com/event/12th-mascleta-of-the-fallas-of-valencia-2025/
LOCATION:Plaça de l’Ajuntament\, Pl. de l'Ajuntament\, Valencia\, Valencia\, 46002\, Spain
CATEGORIES:Fallas fireworks show
ATTACH;FMTTYPE=image/jpeg:https://experiencefallasvalencia.com/wp-content/uploads/2024/02/Events-mascleta.jpg
END:VEVENT
BEGIN:VEVENT
DTSTART;TZID=Europe/Madrid:20250313T140000
DTEND;TZID=Europe/Madrid:20250313T142000
DTSTAMP:20260421T195424
CREATED:20240820T082913Z
LAST-MODIFIED:20240820T082913Z
UID:1324-1741874400-1741875600@experiencefallasvalencia.com
SUMMARY:13th Mascletà of the Fallas of Valencia 2025
DESCRIPTION:13th Mascletà de las Fallas de Valencia 2025. Every day from 1 to 19 at 2 p.m. Remember to go well in advance if you want to have good visibility\, but the most important thing is the sound.
URL:https://experiencefallasvalencia.com/event/13th-mascleta-of-the-fallas-of-valencia-2025/
LOCATION:Plaça de l’Ajuntament\, Pl. de l'Ajuntament\, Valencia\, Valencia\, 46002\, Spain
CATEGORIES:Fallas fireworks show
ATTACH;FMTTYPE=image/jpeg:https://experiencefallasvalencia.com/wp-content/uploads/2024/02/Events-mascleta.jpg
END:VEVENT
BEGIN:VEVENT
DTSTART;TZID=Europe/Madrid:20250314T140000
DTEND;TZID=Europe/Madrid:20250314T142000
DTSTAMP:20260421T195424
CREATED:20240820T083031Z
LAST-MODIFIED:20240820T083031Z
UID:1326-1741960800-1741962000@experiencefallasvalencia.com
SUMMARY:14th Mascletà of the Fallas of Valencia 2025
DESCRIPTION:14th Mascletà de las Fallas de Valencia 2025. Every day from 1 to 19 at 2 p.m. Remember to go well in advance if you want to have good visibility\, but the most important thing is the sound.
URL:https://experiencefallasvalencia.com/event/14th-mascleta-of-the-fallas-of-valencia-2025/
LOCATION:Plaça de l’Ajuntament\, Pl. de l'Ajuntament\, Valencia\, Valencia\, 46002\, Spain
CATEGORIES:Fallas fireworks show
ATTACH;FMTTYPE=image/jpeg:https://experiencefallasvalencia.com/wp-content/uploads/2024/02/Events-mascleta.jpg
END:VEVENT
BEGIN:VEVENT
DTSTART;TZID=Europe/Madrid:20250315T140000
DTEND;TZID=Europe/Madrid:20250315T142000
DTSTAMP:20260421T195424
CREATED:20240820T083150Z
LAST-MODIFIED:20240820T083150Z
UID:1328-1742047200-1742048400@experiencefallasvalencia.com
SUMMARY:15th Mascletà of the Fallas of Valencia 2025
DESCRIPTION:15th Mascletà de las Fallas de Valencia 2025. Every day from 1 to 19 at 2 p.m. Remember to go well in advance if you want to have good visibility\, but the most important thing is the sound.
URL:https://experiencefallasvalencia.com/event/15th-mascleta-of-the-fallas-of-valencia-2025/
LOCATION:Plaça de l’Ajuntament\, Pl. de l'Ajuntament\, Valencia\, Valencia\, 46002\, Spain
CATEGORIES:Fallas fireworks show
ATTACH;FMTTYPE=image/jpeg:https://experiencefallasvalencia.com/wp-content/uploads/2024/02/Events-mascleta.jpg
END:VEVENT
BEGIN:VEVENT
DTSTART;TZID=Europe/Madrid:20250316T140000
DTEND;TZID=Europe/Madrid:20250316T142000
DTSTAMP:20260421T195424
CREATED:20240820T083258Z
LAST-MODIFIED:20240820T083258Z
UID:1330-1742133600-1742134800@experiencefallasvalencia.com
SUMMARY:16th Mascletà of the Fallas of Valencia 2025
DESCRIPTION:16th Mascletà de las Fallas de Valencia 2025. Every day from 1 to 19 at 2 p.m. Remember to go well in advance if you want to have good visibility\, but the most important thing is the sound.
URL:https://experiencefallasvalencia.com/event/16th-mascleta-of-the-fallas-of-valencia-2025/
LOCATION:Plaça de l’Ajuntament\, Pl. de l'Ajuntament\, Valencia\, Valencia\, 46002\, Spain
CATEGORIES:Fallas fireworks show
ATTACH;FMTTYPE=image/jpeg:https://experiencefallasvalencia.com/wp-content/uploads/2024/02/Events-mascleta.jpg
END:VEVENT
BEGIN:VEVENT
DTSTART;TZID=Europe/Madrid:20250317T140000
DTEND;TZID=Europe/Madrid:20250317T142000
DTSTAMP:20260421T195424
CREATED:20240820T083402Z
LAST-MODIFIED:20240820T083402Z
UID:1332-1742220000-1742221200@experiencefallasvalencia.com
SUMMARY:17th Mascletà of the Fallas of Valencia 2025
DESCRIPTION:17th Mascletà de las Fallas de Valencia 2025. Every day from 1 to 19 at 2 p.m. Remember to go well in advance if you want to have good visibility\, but the most important thing is the sound.
URL:https://experiencefallasvalencia.com/event/17th-mascleta-of-the-fallas-of-valencia-2025/
LOCATION:Plaça de l’Ajuntament\, Pl. de l'Ajuntament\, Valencia\, Valencia\, 46002\, Spain
CATEGORIES:Fallas fireworks show
ATTACH;FMTTYPE=image/jpeg:https://experiencefallasvalencia.com/wp-content/uploads/2024/02/Events-mascleta.jpg
END:VEVENT
BEGIN:VEVENT
DTSTART;TZID=Europe/Madrid:20250318T140000
DTEND;TZID=Europe/Madrid:20250318T142000
DTSTAMP:20260421T195424
CREATED:20240820T083525Z
LAST-MODIFIED:20240820T083525Z
UID:1334-1742306400-1742307600@experiencefallasvalencia.com
SUMMARY:18th Mascletà of the Fallas of Valencia 2025
DESCRIPTION:18th Mascletà de las Fallas de Valencia 2025. Every day from 1 to 19 at 2 p.m. Remember to go well in advance if you want to have good visibility\, but the most important thing is the sound.
URL:https://experiencefallasvalencia.com/event/18th-mascleta-of-the-fallas-of-valencia-2025/
LOCATION:Plaça de l’Ajuntament\, Pl. de l'Ajuntament\, Valencia\, Valencia\, 46002\, Spain
CATEGORIES:Fallas fireworks show
ATTACH;FMTTYPE=image/jpeg:https://experiencefallasvalencia.com/wp-content/uploads/2024/02/Events-mascleta.jpg
END:VEVENT
BEGIN:VEVENT
DTSTART;TZID=Europe/Madrid:20250319T000000
DTEND;TZID=Europe/Madrid:20250319T003000
DTSTAMP:20260421T195424
CREATED:20240820T090541Z
LAST-MODIFIED:20241113T102742Z
UID:1352-1742342400-1742344200@experiencefallasvalencia.com
SUMMARY:Nit del Foc / Night of Fire 2025
DESCRIPTION:Third and major nighttime fireworks display of the 2025 Valencia Fallas\, in the area of the City of Arts and Sciences\, to the left of the Reina Sofía Arts Palace when coming from the city center. Remember to arrive well in advance if you want to have a good view. At least\, an hour beforehand. Don’t worry: there are people and a lively atmosphere to entertain you during the wait. \nThe ‘Nit del Foc’ in Valencian\, Night of Fire\, is the largest fireworks display of all the Fallas\, surpassing any other night or mascletà. Undoubtedly\, a must-see. Thirty minutes of a grand spectacle that combines traditional pyrotechnics with the latest technologies.
URL:https://experiencefallasvalencia.com/event/nit-del-foc-night-of-fire-valencia-fallas-2025/
LOCATION:Palau de les Arts Reina Sofía\, Av. del professor López Piñero 1\, Quatre Carreres\, Valencia\, Valencia\, 46013\, Spain
CATEGORIES:Fallas fireworks show
ATTACH;FMTTYPE=image/jpeg:https://experiencefallasvalencia.com/wp-content/uploads/2024/02/events-fireworks.jpg
END:VEVENT
BEGIN:VEVENT
DTSTART;TZID=Europe/Madrid:20250319T140000
DTEND;TZID=Europe/Madrid:20250319T142000
DTSTAMP:20260421T195424
CREATED:20240820T083631Z
LAST-MODIFIED:20241113T102757Z
UID:1336-1742392800-1742394000@experiencefallasvalencia.com
SUMMARY:19th and last Mascletà of the Fallas of Valencia 2025
DESCRIPTION:19th and last Mascletà de las Fallas de Valencia 2025. Every day from 1 to 19 at 2 p.m. Remember to go well in advance if you want to have good visibility\, but the most important thing is the sound.
URL:https://experiencefallasvalencia.com/event/19th-and-last-mascleta-of-the-fallas-of-valencia-2025/
LOCATION:Plaça de l’Ajuntament\, Pl. de l'Ajuntament\, Valencia\, Valencia\, 46002\, Spain
CATEGORIES:Fallas fireworks show
ATTACH;FMTTYPE=image/jpeg:https://experiencefallasvalencia.com/wp-content/uploads/2024/02/Events-mascleta.jpg
END:VEVENT
END:VCALENDAR