BEGIN:VCALENDAR
VERSION:2.0
PRODID:-//Experience Fallas Valencia - A festival of fire and roots! - ECPv6.15.20//NONSGML v1.0//EN
CALSCALE:GREGORIAN
METHOD:PUBLISH
X-WR-CALNAME:Experience Fallas Valencia - A festival of fire and roots!
X-ORIGINAL-URL:https://experiencefallasvalencia.com
X-WR-CALDESC:Events for Experience Fallas Valencia - A festival of fire and roots!
REFRESH-INTERVAL;VALUE=DURATION:PT1H
X-Robots-Tag:noindex
X-PUBLISHED-TTL:PT1H
BEGIN:VTIMEZONE
TZID:Europe/Madrid
BEGIN:DAYLIGHT
TZOFFSETFROM:+0100
TZOFFSETTO:+0200
TZNAME:CEST
DTSTART:20230326T010000
END:DAYLIGHT
BEGIN:STANDARD
TZOFFSETFROM:+0200
TZOFFSETTO:+0100
TZNAME:CET
DTSTART:20231029T010000
END:STANDARD
BEGIN:DAYLIGHT
TZOFFSETFROM:+0100
TZOFFSETTO:+0200
TZNAME:CEST
DTSTART:20240331T010000
END:DAYLIGHT
BEGIN:STANDARD
TZOFFSETFROM:+0200
TZOFFSETTO:+0100
TZNAME:CET
DTSTART:20241027T010000
END:STANDARD
BEGIN:DAYLIGHT
TZOFFSETFROM:+0100
TZOFFSETTO:+0200
TZNAME:CEST
DTSTART:20250330T010000
END:DAYLIGHT
BEGIN:STANDARD
TZOFFSETFROM:+0200
TZOFFSETTO:+0100
TZNAME:CET
DTSTART:20251026T010000
END:STANDARD
END:VTIMEZONE
BEGIN:VEVENT
DTSTART;TZID=Europe/Madrid:20240208T080000
DTEND;TZID=Europe/Madrid:20240208T170000
DTSTAMP:20260426T022021
CREATED:20240208T115129Z
LAST-MODIFIED:20240208T193145Z
UID:509-1707379200-1707411600@experiencefallasvalencia.com
SUMMARY:Entrance of traditional music bands to the Town Hall Square
DESCRIPTION:Music bands from the city\, other municipalities and those associated with the Fallas parade through the Plaça de l’Ajuntament (Town Hall Square).
URL:https://experiencefallasvalencia.com/event/traditional-music-bands-town-hall-square-fallas-2024/
LOCATION:Plaça de l’Ajuntament\, Pl. de l'Ajuntament\, Valencia\, Valencia\, 46002\, Spain
CATEGORIES:Fallas parades and events
ATTACH;FMTTYPE=image/jpeg:https://experiencefallasvalencia.com/wp-content/uploads/2024/02/Site-image-720p.jpg
END:VEVENT
END:VCALENDAR