BEGIN:VCALENDAR
VERSION:2.0
PRODID:-//Experience Fallas Valencia - A festival of fire and roots! - ECPv6.15.20//NONSGML v1.0//EN
CALSCALE:GREGORIAN
METHOD:PUBLISH
X-ORIGINAL-URL:https://experiencefallasvalencia.com
X-WR-CALDESC:Events for Experience Fallas Valencia - A festival of fire and roots!
REFRESH-INTERVAL;VALUE=DURATION:PT1H
X-Robots-Tag:noindex
X-PUBLISHED-TTL:PT1H
BEGIN:VTIMEZONE
TZID:Europe/Madrid
BEGIN:DAYLIGHT
TZOFFSETFROM:+0100
TZOFFSETTO:+0200
TZNAME:CEST
DTSTART:20240331T010000
END:DAYLIGHT
BEGIN:STANDARD
TZOFFSETFROM:+0200
TZOFFSETTO:+0100
TZNAME:CET
DTSTART:20241027T010000
END:STANDARD
BEGIN:DAYLIGHT
TZOFFSETFROM:+0100
TZOFFSETTO:+0200
TZNAME:CEST
DTSTART:20250330T010000
END:DAYLIGHT
BEGIN:STANDARD
TZOFFSETFROM:+0200
TZOFFSETTO:+0100
TZNAME:CET
DTSTART:20251026T010000
END:STANDARD
BEGIN:DAYLIGHT
TZOFFSETFROM:+0100
TZOFFSETTO:+0200
TZNAME:CEST
DTSTART:20260329T010000
END:DAYLIGHT
BEGIN:STANDARD
TZOFFSETFROM:+0200
TZOFFSETTO:+0100
TZNAME:CET
DTSTART:20261025T010000
END:STANDARD
END:VTIMEZONE
BEGIN:VEVENT
DTSTART;TZID=Europe/Madrid:20250202T100000
DTEND;TZID=Europe/Madrid:20250315T210000
DTSTAMP:20260421T114744
CREATED:20240819T154049Z
LAST-MODIFIED:20240819T155939Z
UID:1257-1738490400-1742072400@experiencefallasvalencia.com
SUMMARY:Exposició del ninot 2025 / Doll Exhibition 2025
DESCRIPTION:The literal translation is ‘Doll Exhibition’. This showcase features a figure representing each Falla\, selected by every Falla commission. Attendees can vote for their favorite\, both among the large and children’s Fallas. Voting for the big ones is open until the 14th\, and for the children’s until the 15th. The two winning ‘ninots’ will be spared from the flames at the festival’s conclusion and will join the Fallero Museum. \nAdult tickets 3€\, children and special conditions 1\,5€. \nMonday to Thursday from 10 a.m. to 8 p.m. \nFriday to Sunday from 10 a.m. to 9 p.m.
URL:https://experiencefallasvalencia.com/event/exposicio-ninot-2025-doll-exhibition-2025-valencia-fallas/
LOCATION:Museu de les Ciències\, Ciudad de las Artes y de las Ciencias\, Av. del Professor López Piñero 7\, Valencia\, Valencia\, 46013\, Spain
CATEGORIES:Fallas contemplation
ATTACH;FMTTYPE=image/jpeg:https://experiencefallasvalencia.com/wp-content/uploads/2024/02/01-Exposicio-del-Ninot.jpg
END:VEVENT
BEGIN:VEVENT
DTSTART;TZID=Europe/Madrid:20250223T071500
DTEND;TZID=Europe/Madrid:20250223T080000
DTSTAMP:20260421T114744
CREATED:20240819T155822Z
LAST-MODIFIED:20240819T155822Z
UID:1269-1740294900-1740297600@experiencefallasvalencia.com
SUMMARY:Children's 'Despertà'
DESCRIPTION:Infant march with firecrackers in the early morning. Hence the name ‘despertà’\, which means wake-up call in valencian. It starts at the Church of Sant Joan del Hospital and ends in the Town Hall Square with a grand finale ‘earthquake’ —a large firecracker display—.
URL:https://experiencefallasvalencia.com/event/childrens-desperta-valencia-fallas-2025/
LOCATION:Plaça de la Reina\, Plaça de la Reina\, Valencia\, Valencia\, 46001\, Spain
CATEGORIES:Fallas parades and events
ATTACH;FMTTYPE=image/jpeg:https://experiencefallasvalencia.com/wp-content/uploads/2024/02/Site-image-720p.jpg
END:VEVENT
BEGIN:VEVENT
DTSTART;TZID=Europe/Madrid:20250223T073000
DTEND;TZID=Europe/Madrid:20250223T083000
DTSTAMP:20260421T114744
CREATED:20240819T160158Z
LAST-MODIFIED:20240819T160244Z
UID:1273-1740295800-1740299400@experiencefallasvalencia.com
SUMMARY:Macrodespertà
DESCRIPTION:La ‘despertà’ is a route where people are awakened early by setting off firecrackers\, hence the name\, ‘despertar’ – to wake up. It begins shortly after the children’s event and ends in the Town Hall Square with a large ‘terratrèmol’ or pyrotechnic earthquake\, by Mediterráneo Pyrothecnics.
URL:https://experiencefallasvalencia.com/event/macrodesperta-fallas-valencia-2025/
LOCATION:Carrer de la Pau\, Carrer de la Pau\, Valencia\, Valencia\, 46003\, Spain
CATEGORIES:Fallas parades and events
ATTACH;FMTTYPE=image/jpeg:https://experiencefallasvalencia.com/wp-content/uploads/2024/02/Site-image-720p.jpg
END:VEVENT
BEGIN:VEVENT
DTSTART;TZID=Europe/Madrid:20250223T100000
DTEND;TZID=Europe/Madrid:20250223T110000
DTSTAMP:20260421T114744
CREATED:20240819T162003Z
LAST-MODIFIED:20240819T162011Z
UID:1282-1740304800-1740308400@experiencefallasvalencia.com
SUMMARY:Contest of the 'Cant de l'estoreta velleta' 2025
DESCRIPTION:This event\, revived from its origins in 1961\, brings the nostalgic tradition of the Fallas to life. In Plaça de l’Arbre\, located in the El Carme neighborhood\, different groups from various fallas commissions perform this historical custom. They carry furniture on an ‘estoreta velleta’ (old rug) and sing a traditional song\, just as it was done in the past. These pieces of furniture\, originally intended to be burned in the Fallas\, now serve as a link to Valencia’s cultural heritage.
URL:https://experiencefallasvalencia.com/event/contest-cant-de-lestoreta-velleta-valencia-fallas-2025/
LOCATION:Plaça de l’Arbre\, Plaça del Arbre\, Valencia\, Valencia\, 46003\, Spain
CATEGORIES:Fallas parades and events
ATTACH;FMTTYPE=image/jpeg:https://experiencefallasvalencia.com/wp-content/uploads/2024/02/Site-image-720p.jpg
END:VEVENT
BEGIN:VEVENT
DTSTART;TZID=Europe/Madrid:20250223T113000
DTEND;TZID=Europe/Madrid:20250223T120000
DTSTAMP:20260421T114744
CREATED:20240819T160906Z
LAST-MODIFIED:20240819T161144Z
UID:1276-1740310200-1740312000@experiencefallasvalencia.com
SUMMARY:Parade of traditional music bands
DESCRIPTION:Music bands from the city\, other municipalities and those associated with the Fallas parade from Tetuan Square (11:30h) to Town Hall Square (12h).
URL:https://experiencefallasvalencia.com/event/parade-traditional-music-bands-desperta-fallas-valencia-2025/
LOCATION:Plaça Tetuan\, Pl. Tetuán\, Valencia\, Valencia\, 46003\, Spain
CATEGORIES:Fallas parades and events
ATTACH;FMTTYPE=image/jpeg:https://experiencefallasvalencia.com/wp-content/uploads/2024/02/Site-image-720p.jpg
END:VEVENT
BEGIN:VEVENT
DTSTART;TZID=Europe/Madrid:20250223T140000
DTEND;TZID=Europe/Madrid:20250223T142000
DTSTAMP:20260421T114744
CREATED:20240819T161112Z
LAST-MODIFIED:20240820T085648Z
UID:1280-1740319200-1740320400@experiencefallasvalencia.com
SUMMARY:Mascletà
DESCRIPTION:The first mascletà of 2025\, although it is not yet considered the first on the official calendar\, which is from March 1 to 19\, every day.
URL:https://experiencefallasvalencia.com/event/mascleta-crida-first-valencia-fallas-2025/
LOCATION:Plaça de l’Ajuntament\, Pl. de l'Ajuntament\, Valencia\, Valencia\, 46002\, Spain
CATEGORIES:Fallas fireworks show
ATTACH;FMTTYPE=image/jpeg:https://experiencefallasvalencia.com/wp-content/uploads/2024/02/Events-mascleta.jpg
END:VEVENT
BEGIN:VEVENT
DTSTART;TZID=Europe/Madrid:20250223T200000
DTEND;TZID=Europe/Madrid:20250223T210000
DTSTAMP:20260421T114744
CREATED:20240819T155112Z
LAST-MODIFIED:20240819T155341Z
UID:1262-1740340800-1740344400@experiencefallasvalencia.com
SUMMARY:La Crida de les Falles 2025 / The Crida of Fallas 2025
DESCRIPTION:The Crida (Valencian word for ‘call’) always takes place on the last Sunday of February. The Falleras Mayores of Valencia announce the beginning of the Fallas calendar. There are fireworks and visual effects during and after the event.
URL:https://experiencefallasvalencia.com/event/crida-fallas-valencia-2025/
LOCATION:Torres de Serrans\, Plaça dels Furs\, Valencia\, Valencia\, 46003\, Spain
CATEGORIES:Fallas parades and events
ATTACH;FMTTYPE=image/jpeg:https://experiencefallasvalencia.com/wp-content/uploads/2024/02/Site-image-720p.jpg
END:VEVENT
END:VCALENDAR